BEGIN:VCALENDAR
VERSION:2.0
PRODID:-//Miteinander für Großenseebach - ECPv5.12.3//NONSGML v1.0//EN
CALSCALE:GREGORIAN
METHOD:PUBLISH
X-WR-CALNAME:Miteinander für Großenseebach
X-ORIGINAL-URL:https://mf-grossenseebach.de
X-WR-CALDESC:Veranstaltungen für Miteinander für Großenseebach
BEGIN:VTIMEZONE
TZID:Europe/Berlin
BEGIN:DAYLIGHT
TZOFFSETFROM:+0100
TZOFFSETTO:+0200
TZNAME:CEST
DTSTART:20260329T010000
END:DAYLIGHT
BEGIN:STANDARD
TZOFFSETFROM:+0200
TZOFFSETTO:+0100
TZNAME:CET
DTSTART:20261025T010000
END:STANDARD
END:VTIMEZONE
BEGIN:VEVENT
DTSTART;TZID=Europe/Berlin:20260110T150000
DTEND;TZID=Europe/Berlin:20260110T180000
DTSTAMP:20260424T210625
CREATED:20251207T181431Z
LAST-MODIFIED:20251211T175758Z
UID:2539-1768057200-1768068000@mf-grossenseebach.de
SUMMARY:Kandidatenvorstellung
DESCRIPTION:Lernen Sie unsere Kandidatinnen und Kandidaten für die Kommunalwahl am 08. März 2026 persönlich kennen. Wir freuen uns über Ihren Besuch. 😊 \n  \n \n  \n \n 
URL:https://mf-grossenseebach.de/event/kandidatenvorstellung/
LOCATION:Mehrzweckhalle Großenseebach\, Gartenstraße 39\, Großenseebach\, 91091
END:VEVENT
END:VCALENDAR